BEGIN:VCALENDAR
VERSION:2.0
PRODID:-//Suisun Valley - ECPv4.3.3//NONSGML v1.0//EN
CALSCALE:GREGORIAN
METHOD:PUBLISH
X-WR-CALNAME:Suisun Valley
X-ORIGINAL-URL:https://suisunvalley.com
X-WR-CALDESC:Events for Suisun Valley
BEGIN:VEVENT
DTSTART;TZID=America/Los_Angeles:20241023T173000
DTEND;TZID=America/Los_Angeles:20241023T193000
DTSTAMP:20260421T150825
CREATED:20240927T195438Z
LAST-MODIFIED:20240927T195818Z
UID:5671-1729704600-1729711800@suisunvalley.com
SUMMARY:Sushi Class @ BackRoad Vines & The Landing at Village 360
DESCRIPTION:Immerse yourself in Japanese culture and come to our sushi making class! Learn how to prepare and roll sushi while indulging in Japanese spirits\, appetizers\, and sushi! Reserve your spot now before it’s too late! This is a 21+ event.
URL:https://suisunvalley.com/events-attraction/sushi-class-backroad-vines-the-landing-at-village-360/
LOCATION:4949 Suisun Valley Rd.\, Fairfield\, CA\, 94534\, United States
ATTACH;FMTTYPE=image/jpeg:https://suisunvalley.com/wp-content/uploads/2024/09/Poster-Invite-Sushi-Class-768x1024-1.jpg
END:VEVENT
END:VCALENDAR