BEGIN:VCALENDAR
VERSION:2.0
PRODID:-//Suisun Valley - ECPv4.3.3//NONSGML v1.0//EN
CALSCALE:GREGORIAN
METHOD:PUBLISH
X-WR-CALNAME:Suisun Valley
X-ORIGINAL-URL:https://suisunvalley.com
X-WR-CALDESC:Events for Suisun Valley
BEGIN:VEVENT
DTSTART;TZID=America/Los_Angeles:20250109T053000
DTEND;TZID=America/Los_Angeles:20250109T213000
DTSTAMP:20260423T021149
CREATED:20250101T225637Z
LAST-MODIFIED:20250101T225822Z
UID:6118-1736400600-1736458200@suisunvalley.com
SUMMARY:Supper Club @ BackRoad Vines & The Landing at Village 360
DESCRIPTION:Join our Supper Club!\nOur first dinner will be held Thursday\, January 9th by reservation only.\n20% of this Supper Club's sales will be donated to Essentially Everly\, an organization that provides children battling cancer totes filled with items to bring them comfort and support during their hospital stay.
URL:https://suisunvalley.com/events-attraction/supper-club-backroad-vines-the-landing-at-village-360/
LOCATION:4949 Suisun Valley Road\,\,  Fairfield\, 95434\, United States
ATTACH;FMTTYPE=image/jpeg:https://suisunvalley.com/wp-content/uploads/2025/01/SUPPER-CLUB-WEBSITE-2-2-2048x768-1.jpg
END:VEVENT
END:VCALENDAR