BEGIN:VCALENDAR
VERSION:2.0
PRODID:-//Suisun Valley - ECPv4.3.3//NONSGML v1.0//EN
CALSCALE:GREGORIAN
METHOD:PUBLISH
X-WR-CALNAME:Suisun Valley
X-ORIGINAL-URL:https://suisunvalley.com
X-WR-CALDESC:Events for Suisun Valley
BEGIN:VEVENT
DTSTART;TZID=America/Los_Angeles:20190720T140000
DTEND;TZID=America/Los_Angeles:20190720T170000
DTSTAMP:20260424T200236
CREATED:20190717T002830Z
LAST-MODIFIED:20190717T002900Z
UID:2806-1563631200-1563642000@suisunvalley.com
SUMMARY:Seven Artisans Winery presents "Matty T & Friends"
DESCRIPTION:Join Matty T & Friends as they continue the 2019 World Tour at Seven Artisans Winery in Fairfield.\n\n$15 Dollar cover includes a glass of wine! Get there early as seating will certainly fill up fast for this great show!\n\nFood available from Out of this World Catering\n\nCall or text for reservations  (707) 771-0911.\n\nSaturday 7/20 - 2 PM – 5 PM\n\nSeven Artisans Winery\n4341 Abernathy Rd\, Fairfield\, California 94534\n\n 
URL:https://suisunvalley.com/events-attraction/seven-artisans-winery-presents-matty-t-friends/
LOCATION:4341 Abernathy Road\, Fairfield\, CA\, 94534\, United States
GEO:38.2559854;-122.0923122
X-APPLE-STRUCTURED-LOCATION;VALUE=URI;X-ADDRESS=4341 Abernathy Road Fairfield CA 94534 United States;X-APPLE-RADIUS=500;X-TITLE=4341 Abernathy Road:geo:-122.0923122,38.2559854
ATTACH;FMTTYPE=image/png:https://suisunvalley.com/wp-content/uploads/2019/07/Matty-T-and-Friends-page.png
END:VEVENT
END:VCALENDAR