BEGIN:VCALENDAR
VERSION:2.0
PRODID:-//Suisun Valley - ECPv4.3.3//NONSGML v1.0//EN
CALSCALE:GREGORIAN
METHOD:PUBLISH
X-WR-CALNAME:Suisun Valley
X-ORIGINAL-URL:https://suisunvalley.com
X-WR-CALDESC:Events for Suisun Valley
BEGIN:VEVENT
DTSTART;TZID=America/Los_Angeles:20190713T140000
DTEND;TZID=America/Los_Angeles:20190713T170000
DTSTAMP:20260424T181738
CREATED:20190709T004059Z
LAST-MODIFIED:20190709T004059Z
UID:2732-1563026400-1563037200@suisunvalley.com
SUMMARY:Seven Artisans Winery presents "Cut Loose"
DESCRIPTION:Cut Loose live to rock\, R&B and blues tunes you love on Seven Artisans' sunny front lawn! \n\n$15 includes music and one glass of wine. \n\nThe Buckhorn BBQ Food Truck will be there to fuel you up for dancin'.  \n\nTable reservations available -- call or text (707) 771-0911.
URL:https://suisunvalley.com/events-attraction/seven-artisans-winery-presents-cut-loose/
LOCATION:4341 Abernathy Road\, Fairfield\, CA\, 94534\, United States
GEO:38.2559854;-122.0923122
X-APPLE-STRUCTURED-LOCATION;VALUE=URI;X-ADDRESS=4341 Abernathy Road Fairfield CA 94534 United States;X-APPLE-RADIUS=500;X-TITLE=4341 Abernathy Road:geo:-122.0923122,38.2559854
ATTACH;FMTTYPE=image/png:https://suisunvalley.com/wp-content/uploads/2019/07/Cut-Loose-July-2019-page.png
END:VEVENT
END:VCALENDAR