BEGIN:VCALENDAR
VERSION:2.0
PRODID:-//Suisun Valley - ECPv4.3.3//NONSGML v1.0//EN
CALSCALE:GREGORIAN
METHOD:PUBLISH
X-WR-CALNAME:Suisun Valley
X-ORIGINAL-URL:https://suisunvalley.com
X-WR-CALDESC:Events for Suisun Valley
BEGIN:VEVENT
DTSTART;TZID=America/Los_Angeles:20251214T120000
DTEND;TZID=America/Los_Angeles:20251214T160000
DTSTAMP:20260425T025557
CREATED:20251121T234122Z
LAST-MODIFIED:20251121T234122Z
UID:6670-1765713600-1765728000@suisunvalley.com
SUMMARY:Photos with Santa @ Jelly Belly
DESCRIPTION:Get a photo with Santa! Find Santa at Jelly Belly and make sure the kids bring their Christmas List for Santa as he gets ready to go back to the North Pole. ⁠\n\nDecember 13 and 14th – 12:00pm – 4:00pm\nDecember 19th – December 23rd – 12:00pm – 4:00pm\nDecember 24th – 12:00pm – 2:00pm\nPlease bring your own camera\, there will not be a photographer on site.
URL:https://suisunvalley.com/events-attraction/photos-with-santa-jelly-belly/2025-12-14/
LOCATION:One Jelly Belly Lane\, Fairfield\, CA\, 94533
ATTACH;FMTTYPE=image/jpeg:https://suisunvalley.com/wp-content/uploads/2025/11/IMG_0065-1-500x750-1.jpg
END:VEVENT
END:VCALENDAR