BEGIN:VCALENDAR
VERSION:2.0
PRODID:-//Suisun Valley - ECPv4.3.3//NONSGML v1.0//EN
CALSCALE:GREGORIAN
METHOD:PUBLISH
X-WR-CALNAME:Suisun Valley
X-ORIGINAL-URL:https://suisunvalley.com
X-WR-CALDESC:Events for Suisun Valley
BEGIN:VEVENT
DTSTART;TZID=America/Los_Angeles:20260315T130000
DTEND;TZID=America/Los_Angeles:20260315T160000
DTSTAMP:20260419T181111
CREATED:20260224T231255Z
LAST-MODIFIED:20260224T231255Z
UID:6948-1773579600-1773590400@suisunvalley.com
SUMMARY:Music In The Tasting Room @ Bally Keal Estate
DESCRIPTION:Enjoy the music of Paddy on the Binge
URL:https://suisunvalley.com/events-attraction/music-in-the-tasting-room-bally-keal-estate-2-2-3-3/
LOCATION:4286 Suisun Valley Rd\, Fairfield\, CA\, 94534\, United States
ATTACH;FMTTYPE=image/png:https://suisunvalley.com/wp-content/uploads/2026/01/Bally-Keal-Estate-Winery-Tour-and-Tasting-Event-Center-Suisun-Valley-01-14-2026_04_22_PM.png
END:VEVENT
END:VCALENDAR