BEGIN:VCALENDAR
VERSION:2.0
PRODID:-//Suisun Valley - ECPv4.3.3//NONSGML v1.0//EN
CALSCALE:GREGORIAN
METHOD:PUBLISH
X-WR-CALNAME:Suisun Valley
X-ORIGINAL-URL:https://suisunvalley.com
X-WR-CALDESC:Events for Suisun Valley
BEGIN:VEVENT
DTSTART;TZID=America/Los_Angeles:20250410T180000
DTEND;TZID=America/Los_Angeles:20250410T200000
DTSTAMP:20260423T111019
CREATED:20250301T005321Z
LAST-MODIFIED:20250301T005321Z
UID:6221-1744308000-1744315200@suisunvalley.com
SUMMARY:Hors D'oeuvres Cooking Class @ Il Fiorello Olive Oil Company
DESCRIPTION:Celebrate spring flavors on April 10\, 6-8 pm. Learn to transform garden-fresh produce into stunning hors d'oeuvres\, appetizers\, and vibrant salads using seasonal ingredients and farm-fresh eggs. Discover the magic of farm-to-table cuisine with creative\, delicious dishes.
URL:https://suisunvalley.com/events-attraction/hors-doeuvres-cooking-class-il-fiorello-olive-oil-company/
LOCATION:2625 Mankas Corner Rd.\, Fairfield\, CA\, 94534\, United States
GEO:38.2789623;-122.1012358
X-APPLE-STRUCTURED-LOCATION;VALUE=URI;X-ADDRESS=2625 Mankas Corner Rd. Fairfield CA 94534 United States;X-APPLE-RADIUS=500;X-TITLE=2625 Mankas Corner Rd.:geo:-122.1012358,38.2789623
ATTACH;FMTTYPE=image/png:https://suisunvalley.com/wp-content/uploads/2025/02/hors-doeuvres-spring-gifts-from-the-garden-1739382755796.png
END:VEVENT
END:VCALENDAR