BEGIN:VCALENDAR
VERSION:2.0
PRODID:-//Suisun Valley - ECPv4.3.3//NONSGML v1.0//EN
CALSCALE:GREGORIAN
METHOD:PUBLISH
X-WR-CALNAME:Suisun Valley
X-ORIGINAL-URL:https://suisunvalley.com
X-WR-CALDESC:Events for Suisun Valley
BEGIN:VEVENT
DTSTART;TZID=America/Los_Angeles:20260320T180000
DTEND;TZID=America/Los_Angeles:20260320T210000
DTSTAMP:20260420T100237
CREATED:20260304T210512Z
LAST-MODIFIED:20260304T210512Z
UID:6984-1774029600-1774040400@suisunvalley.com
SUMMARY:Girls Night Out Pilates @ Village 360
DESCRIPTION:About the Class\nGirls Night Out — Pilates Edition 💗 Join us for a feel-good full body Pilates class followed by bubbly and a reserved karaoke spot to keep the night going. Move together\, sip together\, and celebrate strong girls — on and off the mat.
URL:https://suisunvalley.com/events-attraction/girls-night-out-pilates-village-360/
LOCATION:4949 Suisun Valley Road\,\,  Fairfield\, 95434\, United States
ATTACH;FMTTYPE=image/jpeg:https://suisunvalley.com/wp-content/uploads/2026/03/260304-yoga.jpg
END:VEVENT
END:VCALENDAR