BEGIN:VCALENDAR
VERSION:2.0
PRODID:-//Suisun Valley - ECPv4.3.3//NONSGML v1.0//EN
CALSCALE:GREGORIAN
METHOD:PUBLISH
X-WR-CALNAME:Suisun Valley
X-ORIGINAL-URL:https://suisunvalley.com
X-WR-CALDESC:Events for Suisun Valley
BEGIN:VEVENT
DTSTART;TZID=America/Los_Angeles:20260115T173000
DTEND;TZID=America/Los_Angeles:20260115T193000
DTSTAMP:20260425T223403
CREATED:20251229T202608Z
LAST-MODIFIED:20251229T202608Z
UID:6834-1768498200-1768505400@suisunvalley.com
SUMMARY:Cooking Class: Clean Eating 101 @ Village 360
DESCRIPTION:Clean Eating 101: The Simple Guide to Building a Balanced Meal!\n\nLearn to make wholesome meals: smoothie\, snack\, salad with grilled chicken or salmon\, and coconut curry carrot soup\n\nPLUS\, take home a 21 day clean eating guide!\n\nTickets Here
URL:https://suisunvalley.com/events-attraction/cooking-class-clean-eating-101-village-360/
LOCATION:4949 Suisun Valley Road\,\,  Fairfield\, 95434\, United States
ATTACH;FMTTYPE=image/jpeg:https://suisunvalley.com/wp-content/uploads/2025/12/clean-eating.jpg
END:VEVENT
END:VCALENDAR