BEGIN:VCALENDAR
VERSION:2.0
PRODID:-//Suisun Valley - ECPv4.3.3//NONSGML v1.0//EN
CALSCALE:GREGORIAN
METHOD:PUBLISH
X-WR-CALNAME:Suisun Valley
X-ORIGINAL-URL:https://suisunvalley.com
X-WR-CALDESC:Events for Suisun Valley
BEGIN:VEVENT
DTSTART;TZID=America/Los_Angeles:20190724T180000
DTEND;TZID=America/Los_Angeles:20190724T200000
DTSTAMP:20260424T215738
CREATED:20190709T223200Z
LAST-MODIFIED:20190709T223200Z
UID:2795-1563991200-1563998400@suisunvalley.com
SUMMARY:Cold Summer Soups Cooking Class
DESCRIPTION:Cold Soup - Hot Summer Days\nLight Refreshing Delicious\nSummer is a Good Time for Soup!\nOur Menu\nClassic Vichyssoise\nWith French Extra Virgin Olive Oil\n(Chilled Potato - Leek Soup)\nGolden Gazpacho\nWith Avocado Crema & Co-Milled Jalapeño Oil\nChilled Honeydew Melon\nWith Prosecco & Taggiasca Extra Virgin Olive Oil
URL:https://suisunvalley.com/events-attraction/cold-summer-soups-cooking-class/
LOCATION:2625 Mankas Corner Rd.\, Fairfield\, CA\, 94534\, United States
GEO:38.2789623;-122.1012358
X-APPLE-STRUCTURED-LOCATION;VALUE=URI;X-ADDRESS=2625 Mankas Corner Rd. Fairfield CA 94534 United States;X-APPLE-RADIUS=500;X-TITLE=2625 Mankas Corner Rd.:geo:-122.1012358,38.2789623
ATTACH;FMTTYPE=image/jpeg:https://suisunvalley.com/wp-content/uploads/2019/07/golden-gazpacho-3_FotoSketcher-resized-e1562698062756.jpg
END:VEVENT
END:VCALENDAR