BEGIN:VCALENDAR
VERSION:2.0
PRODID:-//Suisun Valley - ECPv4.3.3//NONSGML v1.0//EN
CALSCALE:GREGORIAN
METHOD:PUBLISH
X-WR-CALNAME:Suisun Valley
X-ORIGINAL-URL:https://suisunvalley.com
X-WR-CALDESC:Events for Suisun Valley
BEGIN:VEVENT
DTSTART;TZID=America/Los_Angeles:20241130T110000
DTEND;TZID=America/Los_Angeles:20241130T170000
DTSTAMP:20260422T051510
CREATED:20241114T224813Z
LAST-MODIFIED:20241114T224813Z
UID:5900-1732964400-1732986000@suisunvalley.com
SUMMARY:Black Friday Weekend Arts and Crafts Fair @ VILLAGE 360
DESCRIPTION:The 8th Annual Black Friday Arts and Crafts Fair will take place in the conference rooms on the first and second floors.The event is on November 29\, 30\, and December 1\, 11am to 5pm\n\nAttendees are invited to spend the day shopping\, relaxing\, and enjoying fine art\, crafts\, wine\, holiday desserts\, and more.\n\nThe event will feature a diverse range of artwork\, including acrylics\, watercolors\, oil paintings\, color and black-and-white photography\, ceramics\, fused glass\, drawings\, jewelry\, wine and food items\, wood crafts\, centerpieces\, mixed media\, and numerous hand-crafted items\, among other offerings.\n\nThe Landing will be supplying an assortment of food\, The Point will offer a wide selection of drinks\, and BackRoad Vines vineyards will supply a variety of fine wines. You will be able to stroll among the vendors and enjoy the holiday music\, sip fine wine\, and purchase holiday gifts for friends and family.
URL:https://suisunvalley.com/events-attraction/black-friday-weekend-arts-and-crafts-fair-village-360/2024-11-30/
LOCATION:4949 Suisun Valley Road\,\,  Fairfield\, 95434\, United States
ATTACH;FMTTYPE=image/png:https://suisunvalley.com/wp-content/uploads/2024/11/black-friday-market-750x658-1.png
END:VEVENT
END:VCALENDAR