BEGIN:VCALENDAR
VERSION:2.0
PRODID:-//Suisun Valley - ECPv4.3.3//NONSGML v1.0//EN
CALSCALE:GREGORIAN
METHOD:PUBLISH
X-WR-CALNAME:Suisun Valley
X-ORIGINAL-URL:https://suisunvalley.com
X-WR-CALDESC:Events for Suisun Valley
BEGIN:VEVENT
DTSTART;TZID=America/Los_Angeles:20190728T090000
DTEND;TZID=America/Los_Angeles:20190728T120000
DTSTAMP:20260424T232902
CREATED:20190724T184959Z
LAST-MODIFIED:20190724T184959Z
UID:2813-1564304400-1564315200@suisunvalley.com
SUMMARY:Basic Photography Class & Photo Tour
DESCRIPTION:​Learn the basics of the art & science of photography from Larry A. Burns\, Jr. of Epic Flight Films.\n\nThis Class includes an intro to photography for both cellphones & SLRs/dSLRs​\, elements of cameras\, aspects of photography & techniques of composition.\n\nIncluded is a supervised outdoor photo shoot throughout the farm & olive grove at Il Fiorello Olive Oil Company with a follow-up critique session.\n\nBring your cellphone with camera or an SLR camera (or both!!)\, and a keen sense of curiosity!!\n\n$105 for adults/$85 for kids ages 14-18​ (Please call 707-864-1529 to get a discount code for kids' registration pricing)
URL:https://suisunvalley.com/events-attraction/basic-photography-class-photo-tour/
LOCATION:2625 Mankas Corner Rd.\, Fairfield\, CA\, 94534\, United States
GEO:38.2789623;-122.1012358
X-APPLE-STRUCTURED-LOCATION;VALUE=URI;X-ADDRESS=2625 Mankas Corner Rd. Fairfield CA 94534 United States;X-APPLE-RADIUS=500;X-TITLE=2625 Mankas Corner Rd.:geo:-122.1012358,38.2789623
ATTACH;FMTTYPE=image/jpeg:https://suisunvalley.com/wp-content/uploads/2019/07/shutterstock_218072086-e1563402750255.jpg
END:VEVENT
END:VCALENDAR