BEGIN:VCALENDAR
VERSION:2.0
PRODID:-//Suisun Valley - ECPv4.3.3//NONSGML v1.0//EN
CALSCALE:GREGORIAN
METHOD:PUBLISH
X-WR-CALNAME:Suisun Valley
X-ORIGINAL-URL:https://suisunvalley.com
X-WR-CALDESC:Events for Suisun Valley
BEGIN:VEVENT
DTSTART;TZID=America/Los_Angeles:20251218T170000
DTEND;TZID=America/Los_Angeles:20251218T193000
DTSTAMP:20260425T010853
CREATED:20251215T205752Z
LAST-MODIFIED:20251218T200824Z
UID:6803-1766077200-1766086200@suisunvalley.com
SUMMARY:Back to Basics Cooking Class @ Village 360
DESCRIPTION:Discover the secrets to flavorful lamb\, chicken\, and vegetable stocks!
URL:https://suisunvalley.com/events-attraction/back-to-basics-cooking-class-village-360/
LOCATION:4949 Suisun Valley Road\,\,  Fairfield\, 95434\, United States
ATTACH;FMTTYPE=image/png:https://suisunvalley.com/wp-content/uploads/2025/12/Screenshot-2025-11-19-at-5.51.03-PM.png
END:VEVENT
END:VCALENDAR