BEGIN:VCALENDAR
VERSION:2.0
PRODID:-//Suisun Valley - ECPv4.3.3//NONSGML v1.0//EN
CALSCALE:GREGORIAN
METHOD:PUBLISH
X-WR-CALNAME:Suisun Valley
X-ORIGINAL-URL:https://suisunvalley.com
X-WR-CALDESC:Events for Suisun Valley
BEGIN:VEVENT
DTSTART;TZID=America/Los_Angeles:20241013T120000
DTEND;TZID=America/Los_Angeles:20241013T170000
DTSTAMP:20260421T103446
CREATED:20240927T202404Z
LAST-MODIFIED:20240927T202404Z
UID:5679-1728820800-1728838800@suisunvalley.com
SUMMARY:2024 Harvest Festival (Caymus-Suisun & BackRoad Vines)
DESCRIPTION:Join Caymus-Suisun and BackRoad Vines as they come together to celebrate the harvest season in Suisun Valley! The celebration lasts from 12:00 p.m. to 5:00 p.m.\n\n\nTicket includes:\n\n*Three two-ounce pours from each winery. (6 hours total)\n\n*Food is available for purchase onsite by Rancho Fino at Caymus-Suisun\, and pizzas are available at Village 360.\n\n*Live musical performances by:\n\nMariachi Bonitas - 12:00 @ Caymus-Susiun\nCarlos Herrera - 1:00 @ Village 360\nAriel Marin - 2:00 @ Caymus Suiun\nHelios - 3:00 @ Village 360\n\n*Exclusive dual-branded wine glass.\n\n*Wines by the glass are available for purchase at both locations.
URL:https://suisunvalley.com/events-attraction/2024-harvest-festival-caymus-suisun-backroad-vines/
LOCATION:4949 Suisun Valley Rd & 4991 Suisun Valley Road\, Fairfield\, CA\, 94534
ATTACH;FMTTYPE=image/jpeg:https://suisunvalley.com/wp-content/uploads/2024/09/harvest-event.jpg
END:VEVENT
END:VCALENDAR